BEGIN:VCALENDAR
VERSION:2.0
PRODID:-//Chef Bigwayne - Jamaican Cuisine - ECPv6.15.1.1//NONSGML v1.0//EN
CALSCALE:GREGORIAN
METHOD:PUBLISH
X-ORIGINAL-URL:https://chefbigwayne.com
X-WR-CALDESC:Events for Chef Bigwayne - Jamaican Cuisine
REFRESH-INTERVAL;VALUE=DURATION:PT1H
X-Robots-Tag:noindex
X-PUBLISHED-TTL:PT1H
BEGIN:VTIMEZONE
TZID:UTC
BEGIN:STANDARD
TZOFFSETFROM:+0000
TZOFFSETTO:+0000
TZNAME:UTC
DTSTART:20240101T000000
END:STANDARD
END:VTIMEZONE
BEGIN:VEVENT
DTSTART;VALUE=DATE:20250511
DTEND;VALUE=DATE:20250512
DTSTAMP:20260423T134454
CREATED:20250120T184506Z
LAST-MODIFIED:20250120T184506Z
UID:464-1746921600-1747007999@chefbigwayne.com
SUMMARY:Mothers Day Brunch** Details Coming Soon
DESCRIPTION:
URL:https://chefbigwayne.com/event/mothers-day-brunch-details-coming-soon/
END:VEVENT
BEGIN:VEVENT
DTSTART;VALUE=DATE:20250214
DTEND;VALUE=DATE:20250215
DTSTAMP:20260423T134454
CREATED:20250120T184310Z
LAST-MODIFIED:20250120T184310Z
UID:460-1739491200-1739577599@chefbigwayne.com
SUMMARY:Valentines Day Menu
DESCRIPTION:Celebrate Love with Chef BigWayne’s Jamaican Cuisine! \n\n\nMake this Valentine’s Day unforgettable with a delicious dinner from Chef BigWayne Jamaican Cuisine! Whether you’re planning a romantic evening or a cozy celebration at home\, we’ve got you covered with these mouthwatering options:\n\n\n Steak and Lobster $95\n Pan-Seared Salmon $75\n Chef BigWayne’s Famous Fried Chicken $45\n\n\n Pickup Address: 1432 Niagara St\, Buffalo\, NY 14213\n To Order: Call 716-846-1485 or email chefbigwayne@gmail.com\n\n\n A 50% nonrefunded deposit is required to secure your order.\n\n\nOrder now\, and let us add the perfect flavor to your Valentine’s Day!
URL:https://chefbigwayne.com/event/valentines-day-menu/
END:VEVENT
BEGIN:VEVENT
DTSTART;TZID=UTC:20241220T160000
DTEND;TZID=UTC:20241220T193000
DTSTAMP:20260423T134454
CREATED:20250120T173126Z
LAST-MODIFIED:20250120T173126Z
UID:455-1734710400-1734723000@chefbigwayne.com
SUMMARY:Milk & Cookies with Santa
DESCRIPTION:Join us for a magical day at the West Side Bazaar with Cookies and Milk with Santa! Hosted by Chef BigWayne Jamaican Cuisine and Cookie Jar 716\, this family-friendly event offers fun for everyone. Enjoy decorating Christmas ornaments\, playing games and\, of course\, meeting Santa for pictures. Admission is free\, and so is the delicious food! Bring your loved ones and celebrate the holiday spirit with the community. RSVP is required https://forms.gle/XaxVCfoB2KXh4pfR9
URL:https://chefbigwayne.com/event/milk-cookies-with-santa/
END:VEVENT
BEGIN:VEVENT
DTSTART;TZID=UTC:20241206T180000
DTEND;TZID=UTC:20241206T220000
DTSTAMP:20260423T134454
CREATED:20250120T182034Z
LAST-MODIFIED:20250120T182034Z
UID:458-1733508000-1733522400@chefbigwayne.com
SUMMARY:Cyber Chic Gala hosted by The BluePrints
DESCRIPTION:We will be catering for the BluePrints Cyber Chic Gala today\, so we will close the restaurant to prepare. Don’t worry. This is a free event for adults\, and we will have your favorite purchase option.\n\n\nJerk Chicken\nCurry Goat\nOxtails\nRice and Peas\nMac & Cheese\nMixed Vegetables\n\n\nWe will have a great night full of fashion fun and great food. Hope to see you there.
URL:https://chefbigwayne.com/event/cyber-chic-gala-hosted-by-the-blueprints/
END:VEVENT
BEGIN:VEVENT
DTSTART;TZID=UTC:20241109T160000
DTEND;TZID=UTC:20241109T193000
DTSTAMP:20260423T134454
CREATED:20250120T172548Z
LAST-MODIFIED:20250120T172548Z
UID:451-1731168000-1731180600@chefbigwayne.com
SUMMARY:One Love\, One Brush\, One Bite Paint Night
DESCRIPTION:One Love\, One Brush\, One Bite \n November 9th\, 2024\n Location: 1432 Niagara St. Buffalo\, NY 14213 West Side Bazaar\nTime: 4 pm-730pm\nTickets are available at Eventbrite or scan the QR Code\n\n\nJoin us for a night of vibrant Jamaican culture at One Love\, One Brush\, One Bite\, a unique Jamaican-themed paint night!  Featuring the culinary delights of Chef BigWayne Jamaican Cuisine and the incredible artistry of Tyshaun D. Tyson AKA The Left-Handed Bandit.\n\n\nIndulge in mouthwatering Jamaican dishes\, groove to great music\, and unleash your inner artist as we paint\, eat\, and vibe together! Whether you’re an experienced painter or just looking for a fun night out\, this event is One Love One Brush One Bite DJ for you!\n\n\nWhat to expect:\n Jamaican Music\n Delicious Jamaican food by Chefbigwayne Jamaicancuisine\n Guided painting session by The Left-Handed Bandit
URL:https://chefbigwayne.com/event/one-love-one-brush-one-bite-paint-night/
END:VEVENT
BEGIN:VEVENT
DTSTART;TZID=UTC:20240825T080000
DTEND;TZID=UTC:20240825T170000
DTSTAMP:20260423T134454
CREATED:20240529T092023Z
LAST-MODIFIED:20240529T092023Z
UID:156-1724572800-1724605200@chefbigwayne.com
SUMMARY:Beau Fleuve Music Festival
DESCRIPTION:August 25th- Beau Fleuve Music Festival
URL:https://chefbigwayne.com/event/beau-fleuve-music-festival/
END:VEVENT
BEGIN:VEVENT
DTSTART;TZID=UTC:20240818T110000
DTEND;TZID=UTC:20240818T190000
DTSTAMP:20260423T134454
CREATED:20240817T110056Z
LAST-MODIFIED:20240702T033104Z
UID:409-1723978800-1724007600@chefbigwayne.com
SUMMARY:Taking it to the streets
DESCRIPTION:Taking it to the streets @MLK Park
URL:https://chefbigwayne.com/event/taking-it-to-the-streets-2/
END:VEVENT
BEGIN:VEVENT
DTSTART;TZID=UTC:20240817T110000
DTEND;TZID=UTC:20240817T190000
DTSTAMP:20260423T134454
CREATED:20240702T030834Z
LAST-MODIFIED:20240702T033238Z
UID:407-1723892400-1723921200@chefbigwayne.com
SUMMARY:Taking it to the streets
DESCRIPTION:Taking it to the streets @ MLK Park
URL:https://chefbigwayne.com/event/taking-it-to-the-streets/
END:VEVENT
BEGIN:VEVENT
DTSTART;TZID=UTC:20240811T150000
DTEND;TZID=UTC:20240811T210000
DTSTAMP:20260423T134454
CREATED:20240626T211359Z
LAST-MODIFIED:20240626T211359Z
UID:334-1723388400-1723410000@chefbigwayne.com
SUMMARY:Pine Grill Jazz Reunion
DESCRIPTION:Free outdoor festival celebrating the 35th Annual Pine Grill Jazz Reunion at MLK Jr. Park
URL:https://chefbigwayne.com/event/pine-grill-jazz-reunion-2/
END:VEVENT
BEGIN:VEVENT
DTSTART;VALUE=DATE:20240810
DTEND;VALUE=DATE:20240811
DTSTAMP:20260423T134454
CREATED:20240529T091956Z
LAST-MODIFIED:20240626T171314Z
UID:155-1723248000-1723334399@chefbigwayne.com
SUMMARY:Hometown Chef
DESCRIPTION:DelewareNorth will be featuring us as the Hometown Chef on August 10\, 2024
URL:https://chefbigwayne.com/event/university-festival/
LOCATION:HighMark Stadum
END:VEVENT
BEGIN:VEVENT
DTSTART;TZID=UTC:20240804T150000
DTEND;TZID=UTC:20240804T210000
DTSTAMP:20260423T134454
CREATED:20240626T211055Z
LAST-MODIFIED:20240626T211055Z
UID:329-1722783600-1722805200@chefbigwayne.com
SUMMARY:Pine Grill Jazz Reunion
DESCRIPTION:Free outdoor festival celebrating the 35th Annual Pine Grill Jazz Reunion at MLK Jr. Park
URL:https://chefbigwayne.com/event/pine-grill-jazz-reunion/
END:VEVENT
BEGIN:VEVENT
DTSTART;TZID=UTC:20240721T080000
DTEND;TZID=UTC:20240721T170000
DTSTAMP:20260423T134454
CREATED:20240529T091935Z
LAST-MODIFIED:20240529T091935Z
UID:154-1721548800-1721581200@chefbigwayne.com
SUMMARY:Chef BigWayne's Birthday
DESCRIPTION:Chef BigWayne’s Birthday Bash- Place to be determined July 21st
URL:https://chefbigwayne.com/event/chef-bigwaynes-birthday/
END:VEVENT
BEGIN:VEVENT
DTSTART;TZID=UTC:20240720T080000
DTEND;TZID=UTC:20240720T170000
DTSTAMP:20260423T134454
CREATED:20240529T091901Z
LAST-MODIFIED:20240529T091901Z
UID:153-1721462400-1721494800@chefbigwayne.com
SUMMARY:Jamaican Festival in Larkin Square
DESCRIPTION:Jamaican Festival in Larkin Square July 20th
URL:https://chefbigwayne.com/event/jamaican-festival-in-larkin-square/
END:VEVENT
BEGIN:VEVENT
DTSTART;TZID=UTC:20240629T110000
DTEND;TZID=UTC:20240629T190000
DTSTAMP:20260423T134454
CREATED:20240529T091836Z
LAST-MODIFIED:20240626T212452Z
UID:152-1719658800-1719687600@chefbigwayne.com
SUMMARY:Taste of Diversity
DESCRIPTION:The Taste of Diversity is a joyful celebration of the diversity of Buffalo and Buffalo’s west side\, featuring food\, music\, and art. It is located at Grant St and Lafayette Ave.
URL:https://chefbigwayne.com/event/taste-of-diversity/
END:VEVENT
BEGIN:VEVENT
DTSTART;TZID=UTC:20240615T080000
DTEND;TZID=UTC:20240616T170000
DTSTAMP:20260423T134454
CREATED:20240529T091809Z
LAST-MODIFIED:20240529T091809Z
UID:151-1718438400-1718557200@chefbigwayne.com
SUMMARY:Juneteenth Festival
DESCRIPTION:Juneteenth Festival- June 15th & 16th
URL:https://chefbigwayne.com/event/juneteenth-festival/
END:VEVENT
END:VCALENDAR